BEGIN:VCALENDAR
PRODID:-//eluceo/ical//2.0/EN
VERSION:2.0
CALSCALE:GREGORIAN
BEGIN:VEVENT
UID:93c05e06fec44316bb550df1e46b4fee
DTSTAMP:20260425T025128Z
SUMMARY:Soester Wochenmarkt
DESCRIPTION:Jeden Dienstag\, Donnerstag und Samstag findet im Schatten des 
 Turms von St. Patrokli und des barocken Rathauses der Soester Wochenmarkt 
 unumstritten vor einer der schönsten Kulissen Nordrhein-Westfalens statt.
  Der Wochenmarkt in Soest steht für Qualität und Frische aus der Region 
 und lädt zum Stöbern und Schlemmen ein. Das Angebot reicht von Fleisch\,
  Obst und Gemüse über Antipasti und Käse sowie frischen Schnittblumen u
 nd Topfpflanzen bis hin zu Schmuck und Textilien.
DTSTART:20260326T070000
DTEND:20260326T130000
LOCATION:Petrikirchhof Nord\, Petrikirchhof\, 59494 Soest\, 
END:VEVENT
BEGIN:VTIMEZONE
TZID:Europe/Berlin
BEGIN:STANDARD
DTSTART:20260326T070000
TZNAME:CET
TZOFFSETTO:+0100
TZOFFSETFROM:+0100
END:STANDARD
END:VTIMEZONE
END:VCALENDAR
