BEGIN:VCALENDAR
PRODID:-//eluceo/ical//2.0/EN
VERSION:2.0
CALSCALE:GREGORIAN
BEGIN:VEVENT
UID:852e635fc60f926be383de78d95de40a
DTSTAMP:20260425T014748Z
SUMMARY:Soester Gräfte-Trödel
DESCRIPTION:Hier dreht sich alles um Trödel und gebrauchte Schätze\, denn
  Neuware ist tabu. Das besondere Flair\, \ndie Größe und die Lage zwisch
 en den Wallmauern machen diesen Trödelmarkt zu einem absoluten \nPublikum
 smagneten. Fast jeder Termin war bisher ausgebucht! Besucher loben nicht n
 ur die Vielfalt \nder Stände und die malerischen Soester Gräfte\, sonder
 n auch die Tatsache\, dass nur Trödelware \nzugelassen ist. Mit Eis-\, W
 ürstchen- und Getränkeständen ist auch für das leibliche Wohl gesorgt\
 , \nsodass einem ausgedehnten Aufenthalt nichts im Wege steht. Bis zu 40.0
 00 Besucher strömen aus \neinem Umkreis von 100 Kilometern herbei\, um en
 tlang der Stadtmauer zu schlendern\, zu stöbern und \nzu handeln.\n\n\nTe
 ilnahmebedingungen für die Flohmärkte in den Soester Gräften:  \nIm Kar
 tenpreis sind 5€ Müllpfand enthalten. Jeder Platz hat eine Breite von c
 a. 3\,00 Meter und ist \ngeländebedingt unterschiedlich tief. Der Flohmar
 kt beginnt offiziell um 11 Uhr und endet um 17 Uhr.\nEine Stornierung der 
 Anmeldung ist nicht möglich! Der Flohmarkt findet bei jedem Wetter statt!
  \nEine Ausnahme ist eine Unwetterwarnung durch das Deutsche Wetteramt. So
 llte eine Unwetterwarnung \nerst während des Marktes erfolgen\, ist diese
 r sofort  zu räumen. Gebühren werden nicht zurückerstattet.\nDie Nummer
 n der Standplätze werden eingezeichnet und befinden sich zwischen zwei  \
 nMarkierungsnägeln im Pflaster. Tische sind von den Teilnehmer*innen selb
 st mitzubringen\; diese sind \nauch für die Präsentation und die Aufsich
 t der Ware selbst verantwortlich. Es dürfen keine Waren auf \nden Wegen o
 der Bänken aufgebaut werden. Die Stände sind so zu bauen\, dass die gepf
 lasterten Wege \nnicht be- oder überbaut sind (Rettungswege). Gewerbliche
  Anbieter*innen sind ausgeschlossen und \nwerden bei Verstoß des Gelände
 s verwiesen. Der Verkauf von Neuwaren\, Getränken und Speisen ist \nnicht
  gestattet. Den Anweisungen unserer Ordner*innen auf dem Gelände ist Folg
 e zu leisten. \nSie dienen der Sicherheit und dazu\, den Ablauf für alle 
 Beteiligten einfacher zu gestalten. Diese sind \nan den orangefarbigen Bau
 westen zu erkennen. Nach dem Flohmarkt sind alle Ihre nicht verkauften \nW
 aren und die Verpackungen wieder mitzunehmen. Bitte haben Sie Verständnis
 \, dass wir unmöglich \ndie Reste von über 5oo Ständen entsorgen könne
 n.\nDAS BEFAHREN DER GRÄFTE MIT AUTOS IST AUSDRÜCKLICH VERBOTEN!!!\nZuwi
 derhandlung führt zum sofortigen Ausschluß vom Flohmarkt. Bitte nutzen S
 ie die ausgewiesenen \nParkplätze und beachten Sie beim Parken Ihres Auto
 s die Verkehrsregeln. Dazu gehört besonders\, \ndaß die Kreuzungen\, Fu
 ßwege\, Radwege und Einfahrten frei bleiben. Mit wildem Parken gefährden
  Sie \ndie Durchführung weiterer Flohmärkte und Sie riskieren eine Ordnu
 ngsstrafe wegen falschen Parkens. \nEs gilt überall die StVO. Müllpfand:
  Da in der Vergangenheit immer wieder große Mengen Müll liegen \nblieben
 \, erheben wir ein „Müllpfand“  in Höhe von 5€ pro Stand\, die bei
  der Anmeldung zu entrichten \nsind. Diesen Pfand erstatten wir Ihnen gege
 n Vorlage Ihrer Anmeldung ausschließlich in der Zeit von \n16:00-18:00 Uh
 r und nur am Flohmarkttag\, sofern Sie Ihren Standplatz aufgeräumt und m
 üllfrei \nhinterlassen. Kontaktieren Sie unsere Ordner*innen rechtzeitig\
 , bevor Sie Ihren Stand verlassen.\nIhr Stand muss bis 18:00 Uhr geräumt 
 sein.\nBitte bringen Sie Ihren Anmeldebogen zum Flohmarkt mit.\nLieben Dan
 k!
DTSTART:20260628T110000
DTEND:20260628T170000
LOCATION:Kulturhaus Alter Schlachthof Soest\, Ulrichertor 4\, 59494 Soest\,
  
END:VEVENT
BEGIN:VTIMEZONE
TZID:Europe/Berlin
BEGIN:DAYLIGHT
DTSTART:20260628T110000
TZNAME:CEST
TZOFFSETTO:+0200
TZOFFSETFROM:+0200
END:DAYLIGHT
END:VTIMEZONE
END:VCALENDAR
