BEGIN:VCALENDAR
PRODID:-//eluceo/ical//2.0/EN
VERSION:2.0
CALSCALE:GREGORIAN
BEGIN:VEVENT
UID:e4a2a6a0a7918133425ef55887d0fab3
DTSTAMP:20260425T014832Z
SUMMARY:DnD Gruppe
DESCRIPTION:
DTSTART:20260403T110000
DTEND:20260403T180000
LOCATION:Kulturquartier Gesamt\, Ulrichertor 4\, 59494 Soest\, 
END:VEVENT
BEGIN:VTIMEZONE
TZID:Europe/Berlin
BEGIN:DAYLIGHT
DTSTART:20260403T110000
TZNAME:CEST
TZOFFSETTO:+0200
TZOFFSETFROM:+0200
END:DAYLIGHT
END:VTIMEZONE
END:VCALENDAR
