BEGIN:VCALENDAR
PRODID:-//eluceo/ical//2.0/EN
VERSION:2.0
CALSCALE:GREGORIAN
BEGIN:VEVENT
UID:7d2ed39c24d49c6ff54ec78b061d54af
DTSTAMP:20260424T160433Z
SUMMARY:NORDSTERN QUARTETT
DESCRIPTION:Die beiden gebürtigen Nico Steinbrink (Piano) und Björn Fisch
 er ( Bass) bringen eigene Kompositionen
DTSTART:20260503T110000
DTEND:20260503T140000
LOCATION:Lamäng Brasserie Soest\, Kungelmarkt 6\, 59494 Soest\, 
END:VEVENT
BEGIN:VTIMEZONE
TZID:Europe/Berlin
BEGIN:DAYLIGHT
DTSTART:20260503T110000
TZNAME:CEST
TZOFFSETTO:+0200
TZOFFSETFROM:+0200
END:DAYLIGHT
END:VTIMEZONE
END:VCALENDAR
