BEGIN:VCALENDAR
PRODID:-//eluceo/ical//2.0/EN
VERSION:2.0
CALSCALE:GREGORIAN
BEGIN:VEVENT
UID:7f7b5f7c59b59b7498fc3ed51beea024
DTSTAMP:20260424T205103Z
SUMMARY:JIGS JAM SESSION
DESCRIPTION:Open Stage – play with a real band! Die JIGS sorgt für die R
 hythm Section\, die einsteigenden Musiker:innen für die Solos
DTSTART:20260804T190000
DTEND:20260804T220000
LOCATION:Kulturhaus Alter Schlachthof Soest\, Ulrichertor 4\, 59494 Soest\,
  
END:VEVENT
BEGIN:VTIMEZONE
TZID:Europe/Berlin
BEGIN:DAYLIGHT
DTSTART:20260804T190000
TZNAME:CEST
TZOFFSETTO:+0200
TZOFFSETFROM:+0200
END:DAYLIGHT
END:VTIMEZONE
END:VCALENDAR
