BEGIN:VCALENDAR
PRODID:-//eluceo/ical//2.0/EN
VERSION:2.0
CALSCALE:GREGORIAN
BEGIN:VEVENT
UID:a4bb57e0fc43ecc8f0588a73576e1a0d
DTSTAMP:20260425T004357Z
SUMMARY:JIGS JAM SESSION
DESCRIPTION:Open Stage – play with a real band! Die JIGS sorgt für die R
 hythm Section\, die einsteigenden Musiker:innen für die Solos
DTSTART:20260407T190000
DTEND:20260407T220000
LOCATION:Kulturhaus Alter Schlachthof Soest\, Ulrichertor 4\, 59494 Soest\,
  
END:VEVENT
BEGIN:VTIMEZONE
TZID:Europe/Berlin
BEGIN:DAYLIGHT
DTSTART:20260407T190000
TZNAME:CEST
TZOFFSETTO:+0200
TZOFFSETFROM:+0200
END:DAYLIGHT
END:VTIMEZONE
END:VCALENDAR
