BEGIN:VCALENDAR
PRODID:-//eluceo/ical//2.0/EN
VERSION:2.0
CALSCALE:GREGORIAN
BEGIN:VEVENT
UID:6088d534fdadbae18de630c1df5da6f7
DTSTAMP:20260425T014952Z
SUMMARY:»WORTKLÄNGE«
DESCRIPTION:BördeAutoren und JIGs laden zum jazzigen Literaturgenuss mit F
 estivalcharakter | Mit Louisa Kimmels »Words‘n Tunes«
DTSTART:20260525T140000
DTEND:20260525T170000
LOCATION:Hof Drüggelte\, Drüggelter Weg 1\, 59519 Möhnesee\, 
END:VEVENT
BEGIN:VTIMEZONE
TZID:Europe/Berlin
BEGIN:DAYLIGHT
DTSTART:20260525T140000
TZNAME:CEST
TZOFFSETTO:+0200
TZOFFSETFROM:+0200
END:DAYLIGHT
END:VTIMEZONE
END:VCALENDAR
