BEGIN:VCALENDAR
PRODID:-//eluceo/ical//2.0/EN
VERSION:2.0
CALSCALE:GREGORIAN
BEGIN:VEVENT
UID:60769e416999a65348a5cae78538af66
DTSTAMP:20260425T042510Z
SUMMARY:CSD Kreis Soest 2026 - Christopher Street Day
DESCRIPTION:Am 27. Juni 2026 findet in Soest der zweite Christopher Street 
 Day (CSD) statt. \n\nNach dem großen Zuspruch im Vorjahr mit über 1.000 
 Teilnehmenden setzt die Veranstaltung erneut\nein sichtbares Zeichen für 
 Akzeptanz\, Gleichberechtigung und gesellschaftliche Vielfalt.\n\nDie Demo
 nstration startet um 15:30 Uhr im Forum vor der Stadthalle Soest und führ
 t durch\ndie Innenstadt. Entlang der Route ist eine Kundgebung auf dem Pet
 rikirchplatz vorgesehen.\nDer CSD versteht sich als friedlicher\, offener 
 und inklusiver Protest für die Rechte und die\nSichtbarkeit queerer Mensc
 hen.\n\nIm Anschluss an die Demonstration findet ab ca. 18:15 Uhr eine Aft
 ershow-Veranstaltung im\nKulturhaus „Alter Schlachthof“ statt. Dort er
 wartet die Besucherinnen und Besucher ein\nBühnenprogramm\, Informationss
 tände sowie Raum für Austausch und Begegnung. Der\nZugang erfolgt über 
 Einlassbändchen\, die vor Ort gegen Spende erhältlich sind.
DTSTART:20260627T150000
DTEND:20260628T235800
LOCATION:Kulturhaus Alter Schlachthof Soest\, Ulrichertor 4\, 59494 Soest\,
  
END:VEVENT
BEGIN:VTIMEZONE
TZID:Europe/Berlin
BEGIN:DAYLIGHT
DTSTART:20260627T150000
TZNAME:CEST
TZOFFSETTO:+0200
TZOFFSETFROM:+0200
END:DAYLIGHT
END:VTIMEZONE
END:VCALENDAR
