BEGIN:VCALENDAR
PRODID:-//eluceo/ical//2.0/EN
VERSION:2.0
CALSCALE:GREGORIAN
BEGIN:VEVENT
UID:2e812041ed762e9878d5c6a2b306418b
DTSTAMP:20260425T025034Z
SUMMARY:Digitale Fragestunde: Cloud & Fotos - Vorteile und Risiken
DESCRIPTION:Fotografieren ist einfach geworden. Dank digitaler Kameras und 
 Smartphones hat man den Fotoapparat fast ständig dabei und kann dutzende\
 , sogar hunderte von Bildern schießen\, kostenlos! Teurer wird es erst\, 
 wenn man Abzüge machen lassen oder die Bilder teilen möchte: Per E-Mail\
 , Messenger oder über die „Wolke“\, einen Online-Speicher\, auch clou
 d genannt. Welche Angebote gibt es? Wie funktionieren sie? Was gibt es zu 
 beachten bei Kosten und Datenschutz? Diese und andere Fragen werden in ein
 er Fragestunde mit unserem Experten von Levato erörtert.\n\nDies ist eine
  hybride Veranstaltung\, das heißt Sie können diese Fragerunde vor Ort i
 m stadtLABOR (Marktstraße 20a\, 59494 Soest) verfolgen oder online teilne
 hmen (s. Informationen unten).\n\nSie möchten die Veranstaltung vor Ort b
 esuchen? Dann melden Sie sich bitte bis zum 06.05.2026 über das Anmeldefo
 rmular auf der Website des stadtLABORs oder telefonisch über 02921 103-10
 11 an.\n\nSie möchten online von Zuhause aus teilnehmen? Für die Videoko
 nferenz wird die Software „Zoom“ verwendet. Mehr Infos und der Link zu
 r Konferenz finden Sie unter www.stadtlabor-soest.de/veranstaltungen/digit
 ale-fragestunde\n\nDiese Veranstaltung findet in Kooperation mit der VERBR
 AUCHER INITIATIVE im Rahmen des Projektes www.verbraucher60plus.de\, mit d
 em stadtLABOR Soest und den Stadtlaboren Zukunfts.Werk.Stadt Menden und de
 m Stadtlabor freiRAUM Arnsberg statt.
DTSTART:20260507T100000
DTEND:20260507T110000
LOCATION:stadtLABOR Soest\, Marktstraße 20a\, 
END:VEVENT
BEGIN:VTIMEZONE
TZID:Europe/Berlin
BEGIN:DAYLIGHT
DTSTART:20260507T100000
TZNAME:CEST
TZOFFSETTO:+0200
TZOFFSETFROM:+0200
END:DAYLIGHT
END:VTIMEZONE
END:VCALENDAR
