BEGIN:VCALENDAR
PRODID:-//eluceo/ical//2.0/EN
VERSION:2.0
CALSCALE:GREGORIAN
BEGIN:VEVENT
UID:532adf03a562cdbdb624e739464b9f69
DTSTAMP:20260425T014750Z
SUMMARY:KI-Queens: Frauen navigieren gemeinsam durch die Welt der Künstlic
 hen Intelligenz
DESCRIPTION:In verständlicher und praxisnaher Weise werden die Grundlagen 
 von KI vermittelt – mit einem besonderen Fokus auf sogenannte Generative
  KI und aktuelle Tools. Die Plätze für das kostenlose Angebot sind begre
 nzt.\n\nIn dem zweistündigen Workshop lernen die Teilnehmerinnen nicht nu
 r\, was hinter Begriffen wie ChatGPT\, Perplexity\, Napkin\, GAMMA oder De
 ep Seek steckt – sie probieren diese Werkzeuge auch direkt selbst aus. G
 emeinsam werden Anwendungsfelder im Alltag und Beruf erkundet und erste ei
 gene KI-Erfahrungen gesammelt. Ein weiterer Schwerpunkt liegt auf dem soge
 nannten „Prompting“\, also dem gezielten Arbeiten mit KI durch präzis
 e Eingaben.\n\nDer Workshop richtet sich an Frauen jeden Alters\, unabhän
 gig von Herkunft\, beruflichem Hintergrund oder Vorkenntnissen. Willkommen
  sind alle\, die neugierig auf KI sind und Lust haben\, sich in einem gesc
 hützten Rahmen mit den Möglichkeiten dieser Zukunftstechnologie auseinan
 derzusetzen.\n\nDies ist der Einstiegskurs und richtet sich an alle\, die 
 noch nicht an der Reihe „KI-Queens“ teilgenommen haben. \n\nAls Refere
 ntin begleitet Dr. Anne-Kathrin Bestgen den Workshop. Im Anschluss erhalte
 n alle Teilnehmerinnen eine schriftliche Zusammenfassung sowie weiterführ
 ende Übungsaufgaben zur Vertiefung. Die Veranstaltung wird hybrid erfolge
 n in Kooperation mit den Stadtlaboren aus Arnsberg und Soest. Sie können 
 vor Ort im stadtLABOR Soest teilnehmen oder sich von Zuhause aus dazuschal
 ten.\n\nDie Teilnahme ist kostenlos. Da es begrenzte Plätze gibt\, melden
  Sie sich bitte über das Formular unter www.stadtlabor-soest.de/veranstal
 tungen/ki-queens-3 an. Bei Rückfragen schreiben Sie eine Mail an stadtlab
 or@soest.de.
DTSTART:20260423T180000
DTEND:20260423T200000
LOCATION:stadtLABOR Soest\, Marktstraße 20a\, 
END:VEVENT
BEGIN:VTIMEZONE
TZID:Europe/Berlin
BEGIN:DAYLIGHT
DTSTART:20260423T180000
TZNAME:CEST
TZOFFSETTO:+0200
TZOFFSETFROM:+0200
END:DAYLIGHT
END:VTIMEZONE
END:VCALENDAR
