BEGIN:VCALENDAR
PRODID:-//eluceo/ical//2.0/EN
VERSION:2.0
CALSCALE:GREGORIAN
BEGIN:VEVENT
UID:1156f5259a65649449892d393e37ece1
DTSTAMP:20260425T014949Z
SUMMARY:After Work Austausch: Wie Verwaltung Wandel gestaltet
DESCRIPTION:Viele Ideen für eine lebenswerte und nachhaltige Stadt entsteh
 en im Engagement von Bürgerinnen und Bürgern\, Initiativen oder Vereinen
 . Die Stadtverwaltung ist dabei oft eine wichtige Ansprechpartnerin\, zum 
 Beispiel bei Umsetzung\, Genehmigungen oder Kooperationen.\n\nDoch wie gen
 au gestaltet Verwaltung Veränderungen? Welche Spielräume gibt es\, gerad
 e bei Themen wie Nachhaltigkeit oder Innovation?\n\nDie Sozialwissenschaft
 lerin Marie Graef gibt Einblicke in ihre Forschung zur Rolle von Kommunalv
 erwaltungen. Für ihre Doktorarbeit hat sie unter anderem in Soest untersu
 cht\, wie Entscheidungen in Verwaltungen getroffen werden und welchen Beit
 rag Mitarbeitende zur Gestaltung von Veränderungsprozessen leisten könne
 n.\n\nDer Abend lädt dazu ein\, Verwaltung aus einer neuen Perspektive ke
 nnenzulernen und gemeinsam darüber zu sprechen\, wie Politik\, Verwaltung
  und Stadtgesellschaft zusammenwirken können. \n\nMarie Graef ist promovi
 erte Wissenschaftlerin im Bereich Transformationssoziolgie an der Universi
 tät Stuttgart. \n\nLust\, dabei zu sein? Der Abend ist offen für alle 
 – kommt vorbei\, teilt eure Erfahrungen und bringt eure Perspektiven ein
 !\n\nWo: stadtLABOR Soest\, Marktstr. 20a\, 59494 Soest\nWann: 12.05.2026\
 , um 18:00 Uhr\nInfo: Die Veranstaltung ist kostenlos und offen für alle.
  Es gibt Snacks und Getränke.\nAnmeldung: Eine vorherige Anmeldung hilft 
 uns bei der Planung! Dazu einfach das Formular auf der stadtLABOR-Website 
 ausfüllen (www.stadtlabor-soest.de/veranstaltungen/afterwork)\n\nWir freu
 en uns auf einen spannenden Abend und können nur betonen: Vorbeikommen lo
 hnt sich!
DTSTART:20260512T180000
DTEND:20260512T200000
LOCATION:stadtLABOR Soest\, Marktstraße 20a\, 
END:VEVENT
BEGIN:VTIMEZONE
TZID:Europe/Berlin
BEGIN:DAYLIGHT
DTSTART:20260512T180000
TZNAME:CEST
TZOFFSETTO:+0200
TZOFFSETFROM:+0200
END:DAYLIGHT
END:VTIMEZONE
END:VCALENDAR
