BEGIN:VCALENDAR
PRODID:-//eluceo/ical//2.0/EN
VERSION:2.0
CALSCALE:GREGORIAN
BEGIN:VEVENT
UID:506697cd7954e340cf071cb84ff1a2ea
DTSTAMP:20260425T014840Z
SUMMARY:Nouvelle Vague
DESCRIPTION:Paris\, Ende der 1950er-Jahre: Der 28-jährige Jean-Luc Godard 
 hat als Einziger in seinem Freundeskreis noch keinen eigenen Film gemacht.
  Mit einem verrückten Team\, einem amerikanischen Filmstar und wenig Geld
  gelingt ihm schließlich unter abenteuerlichen Umständen mit AUSSER ATEM
  ein Meisterwerk\, das in die Filmgeschichte eingehen und das Kino für im
 mer verändern wird.\nKult-Regisseur Richard Linklater (BOYHOOD\, BEFORE-T
 rilogie) lässt mit NOUVELLE VAGUE eine ganze Generation junger Wilder wie
 der lebendig werden: beneidenswert lässig\, unverschämt mutig und angetr
 ieben vom unbedingten Willen\, alles neu und anders zu machen. Ein Film\, 
 der vor Esprit\, Dynamik und Humor nur so sprüht und einen dazu bringt\, 
 sich wieder kopfüber in das Kino zu verlieben. Der Clou an der Sache: Der
  Film wurde im Stil seines Vorbilds gedreht\, in Schwarz-Weiß und im Form
 at 1:1\,37. Seine Weltpremiere feierte NOUVELLE VAGUE beim Filmfestival vo
 n Cannes – unter großem Applaus von Kritik\, Publikum und von Fans wie 
 Quentin Tarantino.<br>Komödie\, Drama\, FR\, US\, 2025\, 106Min. <br>Alte
 rsfreigabe: ab 12<br>Sprache: D<br>Darsteller: Guillaume  Marbeck\, Zoey  
 Deutch\, Aubry  Dullin\, Adrien  Rouyard\, Antoine  Besson\, Bruno Dreyfü
 rst<br>Regie: Richard Linklater<br>
DTSTART:20260407T200000
DTEND:20260407T230000
LOCATION:Schlachthofkino\, Ulrichertor 4\, 59494 Soest\, 
END:VEVENT
BEGIN:VTIMEZONE
TZID:Europe/Berlin
BEGIN:DAYLIGHT
DTSTART:20260407T200000
TZNAME:CEST
TZOFFSETTO:+0200
TZOFFSETFROM:+0200
END:DAYLIGHT
END:VTIMEZONE
END:VCALENDAR
