BEGIN:VCALENDAR
PRODID:-//eluceo/ical//2.0/EN
VERSION:2.0
CALSCALE:GREGORIAN
BEGIN:VEVENT
UID:7c21e96a39f2a8f3e57b68b437a023e2
DTSTAMP:20260425T014923Z
SUMMARY:Checker Tobi 3 - Die heimliche Herrscherin der Erde
DESCRIPTION:Beim Ausmisten des Kellers stoßen Tobi und Marina auf eine alt
 e Videoaufnahme. Darauf moderiert Tobi als 8-ja¨hriger Junge eine selbste
 rfundene Show zu seinem Lieblingsthema: der Erde in unseren Bo¨den. Das V
 ideo endet mit einer Ra¨tselfrage – der allerersten Checker-Frage: Wer 
 hinterla¨sst die ma¨chtigsten Spuren im Erdreich?\n\nTobi hat die Antwor
 t vergessen. Und wa¨hrend ihn die Frage von fru¨her nicht mehr losla¨ss
 t\, erscheint ihm plo¨tzlich sein kindliches Ich. Surreal\, aber doch rea
 l. Der 8-jährige Tobi fordert den Tobi von heute heraus: Erinnere dich an
  die Antwort! Und beweise\, dass du immer noch ein Checker bist. Die Suche
  nach der Antwort fu¨hrt ihn in die einzigartige Tier- und Pflanzenwelt M
 adagaskars\, tief in den Permafrostboden Spitzbergens und auf die Spuren d
 er alten Maya nach Mexiko. Doch erst als er versteht\, was die Bo¨den all
  seiner Stationen miteinander verbindet und was sie mit uns allen zu tun h
 aben\, kann er seinem bisher gro¨ßten Herausforderer eine Antwort geben.
 <br>Dokumentarfilm\, Abenteuer\, Familienfilm\, DE\, 2025\, 93Min. <br>Alt
 ersfreigabe: ab 0<br>Sprache: D<br>Darsteller: \n    <br>Regie: \n    <br>
DTSTART:20260411T143000
DTEND:20260411T173000
LOCATION:Schlachthofkino\, Ulrichertor 4\, 59494 Soest\, 
END:VEVENT
BEGIN:VTIMEZONE
TZID:Europe/Berlin
BEGIN:DAYLIGHT
DTSTART:20260411T143000
TZNAME:CEST
TZOFFSETTO:+0200
TZOFFSETFROM:+0200
END:DAYLIGHT
END:VTIMEZONE
END:VCALENDAR
