BEGIN:VCALENDAR
PRODID:-//eluceo/ical//2.0/EN
VERSION:2.0
CALSCALE:GREGORIAN
BEGIN:VEVENT
UID:afa36c65c30b08629662f905de8ca988
DTSTAMP:20260425T014934Z
SUMMARY:La Grazia
DESCRIPTION:Liebe. Zweifel. Verantwortung. Vaterschaft. Moral. Dies sind di
 e Kräfte\, die Mariano De Santis\, den scheidenden Präsidenten Italiens\
 , geformt haben. Während seine Amtszeit sich ihrem Ende zuneigt\, steht D
 e Santis vor quälenden Entscheidungen – sowohl auf politischer als auch
  auf zutiefst persönlicher Ebene. Inmitten dieser moralischen Zwickmühle
 n muss er sein eigenes Gewissen um Rat fragen\, sowie die Menschen\, die i
 hm am nächsten stehen\, darunter sein Tochter Dorotea. Zusammen stellen s
 ie sich der zeitlosen Frage: Wem gehören unsere Tage?\n\nLA GRAZIA\, der 
 neue Film des Oscar-Preisträgers Paolo Sorrentino (La Grande Bellezza)\, 
 ist eine eindringliche Erkundung von Liebe\, Pflicht und persönlicher Fre
 iheit. Getragen von einer virtuosen Darstellung Toni Servillos – ausgeze
 ichnet als „Bester Darsteller“ bei den Filmfestspielen von Venedig 202
 5 – entfaltet dieses zutiefst bewegende Werk eine kraftvolle Meditation 
 über die Entscheidungen\, die ein Leben prägen.\nLA GRAZIA ist eine inti
 me Reflektion über Identität und Erinnerung\, und wirft ein Auge auf die
  unauslöschlichen Spuren\, die man als Mensch durch seine Familie und sei
 ne Handlungen hinterlässt. Gefilmt mit Sorrentinos unverwechselbarem lyri
 schen Auge und bereichert mit einem atmosphärischen\, eindringlichen Soun
 dtrack\, bietet der Film eine Kinoerfahrung\, die so visuell überwältige
 nd wie auch emotional ergreifend ist.<br>Drama\, IT\, 2025\, 133Min. <br>A
 ltersfreigabe: ab 12<br>Sprache: OmU<br>Darsteller: Toni  Servillo\, Anna 
  Ferzetti\, Milvia  Marigliano<br>Regie: Paolo  Sorrentino<br>
DTSTART:20260413T200000
DTEND:20260413T230000
LOCATION:Schlachthofkino\, Ulrichertor 4\, 59494 Soest\, 
END:VEVENT
BEGIN:VTIMEZONE
TZID:Europe/Berlin
BEGIN:DAYLIGHT
DTSTART:20260413T200000
TZNAME:CEST
TZOFFSETTO:+0200
TZOFFSETFROM:+0200
END:DAYLIGHT
END:VTIMEZONE
END:VCALENDAR
