BEGIN:VCALENDAR
PRODID:-//eluceo/ical//2.0/EN
VERSION:2.0
CALSCALE:GREGORIAN
BEGIN:VEVENT
UID:dd0ee268abaae1c61ff66d987d9195b7
DTSTAMP:20260425T014807Z
SUMMARY:Das Flüstern der Wälder
DESCRIPTION:Geduld ist die wichtigste Eigenschaft\, die Michel Munier auf s
 einen Streifzügen tief in die alten\, moosbedeckten Wälder der Vogesen m
 itbringen muss. Ausgerüstet mit einem Rucksack auf dem Rücken\, einem St
 ock in der Hand und einer warmen\, schweren Jacke über den Schultern begl
 eiten wir ihn auf seinem Weg zu seinem Versteck\, das er zielsicher ansteu
 ert: eine Tanne. Unter ihren niedrigen Ästen scheint der alte Mann zu ver
 schwinden\, sein Atem wird eins mit dem Rhythmus der Natur und der Welt de
 r Tiere. Über achthundert Nächte hat er dort verbracht\, mit seinem Fern
 glas immer auf der Suche nach Füchsen\, Rehen\, Hirschen\, Luchsen und de
 m König der Wälder: dem Auerhahn.\n\nSein Sohn Vincent teilt die Faszina
 tion des Vaters seit seinem zwölften Lebensjahr. Von ihm hat er gelernt\,
  die Spuren der Tiere zu lesen\, kennt die Plätze\, an denen sie fressen\
 , wo sie jagen\, ihre Nester bauen und schlafen. Gemeinsam mit Vincents So
 hn Simon begibt sich das Familien-Trio in DAS FLÜSTERN DER WÄLDER auf ei
 ne Reise in die atemberaubende Schönheit und Vielfalt der Natur. Es erwar
 ten sie Nächte voller seltener Tierbeobachtungen und faszinierender Klän
 ge.\n\nNach der mit einem César ausgezeichneten Natur-Doku DER SCHNEELEOP
 ARD gelingt es dem französischen Wildtierfotograf und Dokumentarfilmer Vi
 ncent Munier mit DAS FLÜSTERN DER WÄLDER\, nicht nur die visuelle Pracht
 \, sondern auch die poetischen Klänge des Waldes einzufangen. Sein Film i
 st ein filmisches Naturgedicht – und zugleich eine innige Liebeserkläru
 ng an seinen Vater und seinen Sohn\, der generationenübergreifend die tie
 fe Verbundenheit der beiden zur Natur teilt.<br>Dokumentarfilm\, FR\, 2025
 \, 96Min. <br>Altersfreigabe: ab 0<br>Sprache: D<br>Darsteller: \n    <br>
 Regie: Vincent  Munier<br>
DTSTART:20260419T110000
DTEND:20260419T140000
LOCATION:Schlachthofkino\, Ulrichertor 4\, 59494 Soest\, 
END:VEVENT
BEGIN:VTIMEZONE
TZID:Europe/Berlin
BEGIN:DAYLIGHT
DTSTART:20260419T110000
TZNAME:CEST
TZOFFSETTO:+0200
TZOFFSETFROM:+0200
END:DAYLIGHT
END:VTIMEZONE
END:VCALENDAR
