BEGIN:VCALENDAR
PRODID:-//eluceo/ical//2.0/EN
VERSION:2.0
CALSCALE:GREGORIAN
BEGIN:VEVENT
UID:567d74148dc5c55dbab459e3d3758346
DTSTAMP:20260425T014855Z
SUMMARY:Pillion
DESCRIPTION:Als der schüchterne Colin in einer Bar auf den charismatischen
  Ray trifft\, ist es sofort um ihn geschehen. Dass der attraktive Biker au
 sgerechnet ihn zu seinem neuen Gefährten erwählt\, kann er kaum fassen. 
 Ray fordert absolute Unterwerfung\, zu der Colin nur allzu gern bereit ist
 . Er putzt\, kocht\, kauft ein und schläft anstandslos auf dem Bettvorleg
 er. Im Gegenzug öffnet ihm Ray die Tür zu einer aufregenden Welt wilder 
 Abenteuer und sexueller Ekstase. Während sich seine Eltern zunehmend Sorg
 en machen\, genießt Colin sein neues Leben in vollen Zügen. Doch langsam
  erwacht in ihm eine leise Sehnsucht nach etwas\, das Ray ihm vielleicht n
 iemals geben kann.\nAlexander Skarsgård und Harry-Potter-Star Harry Melli
 ng brillieren in Harry Lightons überraschend sensibler DomCom mit einer h
 erausragenden Performance voller Humor\, Zärtlichkeit und emotionaler Tie
 fe. PILLION basiert auf der preisgekrönten Romanvorlage „Box Hill“ un
 d feierte seine umjubelte Weltpremiere bei den Filmfestspielen von Cannes\
 , wo er den Drehbuchpreis in der Sektion „Un Certain Regard“ erhielt.<
 br>Romanze\, Drama\, GB\, 2025\, 107Min. <br>Altersfreigabe: ab 16<br>Spra
 che: D<br>Darsteller:  Alexander  Skarsgård\, Harry  Melling\, Douglas  H
 odge\, Lesley  Sharp\, Anthony  Welsh<br>Regie: Harry  Lighton<br>
DTSTART:20260419T200000
DTEND:20260419T230000
LOCATION:Schlachthofkino\, Ulrichertor 4\, 59494 Soest\, 
END:VEVENT
BEGIN:VTIMEZONE
TZID:Europe/Berlin
BEGIN:DAYLIGHT
DTSTART:20260419T200000
TZNAME:CEST
TZOFFSETTO:+0200
TZOFFSETFROM:+0200
END:DAYLIGHT
END:VTIMEZONE
END:VCALENDAR
