BEGIN:VCALENDAR
PRODID:-//eluceo/ical//2.0/EN
VERSION:2.0
CALSCALE:GREGORIAN
BEGIN:VEVENT
UID:88ec6d29e3b219b67f01703f3bc13682
DTSTAMP:20260424T121238Z
SUMMARY:Die wilde Nordsee - Natur\, die sich nicht zähmen lässt
DESCRIPTION:Ein atemberaubender Blick unter eine bislang verborgene Oberfl
 äche: DIE WILDE NORDSEE entführt das Publikum auf eine spektakuläre Rei
 se durch eines der unerforschtesten\, rauesten und zugleich faszinierendst
 en Meere Europas. Zwischen tosenden Wellen und geheimnisvollen Tiefen entf
 altet sich das verborgene Leben der Nordsee – mit eindrucksvollen Bilder
 n\, seltenen Tierbegegnungen und berührenden Geschichten aus einer Welt i
 m Wandel. Ein visuell überwältigendes Naturerlebnis\, das Staunen weckt 
 – und zum Nachdenken anregt.<br>Dokumentarfilm\, Adventure\, NL\, 2025\,
  90Min. <br>Altersfreigabe: ab 0<br>Sprache: D<br>Darsteller: \n    <br>Re
 gie: Mark Verkerk<br>
DTSTART:20260424T170000
DTEND:20260424T200000
LOCATION:Schlachthofkino\, Ulrichertor 4\, 59494 Soest\, 
END:VEVENT
BEGIN:VTIMEZONE
TZID:Europe/Berlin
BEGIN:DAYLIGHT
DTSTART:20260424T170000
TZNAME:CEST
TZOFFSETTO:+0200
TZOFFSETFROM:+0200
END:DAYLIGHT
END:VTIMEZONE
END:VCALENDAR
