BEGIN:VCALENDAR
PRODID:-//eluceo/ical//2.0/EN
VERSION:2.0
CALSCALE:GREGORIAN
BEGIN:VEVENT
UID:f0fbe8c7a1bd7b25001a480816cc5f3f
DTSTAMP:20260424T121237Z
SUMMARY:Segeljungs - Mit null Ahnung um die Welt
DESCRIPTION:Die Kinotour macht Halt in Soest! Am 17.4. kommen die Segeljung
 s Tim Hund und Vincent Goymann persönlich zu uns ins Kino und stellen sic
 h den Fragen des Publikums.\n\nGanz nach dem Motto „Einfach machen“\, 
 erfüllen sich vier Jungs einen Traum – nach der Schule einmal um die ga
 nze Welt! Aber nicht über Straßen juckeln in irgendeinem Van oder schlic
 htes Backpacking. Segeln soll es sein! Tim\, Vince\, Michi und Tom aus Bad
  Tölz im bayrischen Oberland stürzen sich ohne jede Segelerfahrung in da
 s Abenteuer ihres Lebens. Sie möchten Ozeane überqueren\, das Leben geni
 eßen und sich einfach etwas trauen.\nVoller Naivität\, mit wenig Geld ab
 er enormer Willenskraft und unfassbarem Urvertrauen: „Wird schon.“ Als
 o: Jobben\, Boot kaufen und einfach los.\n\nVon der Ostsee über die Nords
 ee und den Atlantik in die Karibik\, weiter in den Pazifik und die Südsee
 \, über Asien in den Indischen Ozean und durchs Rote Meer zurück nach Eu
 ropa – die Route steht grob fest\, mehr Plan braucht es nicht. Denn das 
 eigentliche Ziel ist die Reise selbst: „Meer haben vom Leben\, Freiheit\
 , Freundschaft\, Entdeckergeist\, Selbstfindung\, Erwachsen werden – ohn
 e den ganzen gesellschaftlichen Druck“. Die sympathischen Jungs aus dem 
 tiefsten Bayern legen ab\, um die Weltmeere zu erobern und segeln dabei au
 ch zu sich selbst.<br>Dokumentarfilm\, DE\, 2026\, 121Min. <br>Altersfreig
 abe: ab 12<br>Sprache: D<br>Darsteller: Tim  Hund\, Vincent  Goymann\, Tho
 mas  Schwarz\, Michael  Bischof<br>Regie: Tim  Hund\, Tobias Steinigeweg<b
 r>
DTSTART:20260425T170000
DTEND:20260425T200000
LOCATION:Schlachthofkino\, Ulrichertor 4\, 59494 Soest\, 
END:VEVENT
BEGIN:VTIMEZONE
TZID:Europe/Berlin
BEGIN:DAYLIGHT
DTSTART:20260425T170000
TZNAME:CEST
TZOFFSETTO:+0200
TZOFFSETFROM:+0200
END:DAYLIGHT
END:VTIMEZONE
END:VCALENDAR
