BEGIN:VCALENDAR
PRODID:-//eluceo/ical//2.0/EN
VERSION:2.0
CALSCALE:GREGORIAN
BEGIN:VEVENT
UID:0dcbaaba2f490a27079bedabe9233af5
DTSTAMP:20260425T024959Z
SUMMARY:Marianengraben
DESCRIPTION:Präsentiert vom Ambulanten Hospizdienst Soest e.V. - Koordinat
 oren und Ehrenamtliche bieten Infogespräche an.\n\nPaula durchlebt eine t
 iefe Trauerphase\, nachdem ihr kleiner Bruder Tim in Triest im Meer ertrun
 ken ist. Von Schuldgefühlen geplagt\, scheint ihr Lebenswille erloschen. 
 Als sie auf den alten Griesgram Helmu trifft\, der die Urne seiner Ex-Frau
  nach Italien fahren will\, sieht sie endlich wieder einen Hoffnungsschimm
 er: Nach Triest fahren\, an den Strand\, an dem ihr Bruder gestorben ist. 
 Nur dort wird sie sich ihm endlich wieder nahe fühlen können. Während d
 er abenteuerlichen Reise entwickelt sich mit Helmut eine unerwartete Freun
 dschaft – und eine neue Lebensfreude erwacht.\n\nBasierend auf dem gleic
 hnamigen Roman von Bestsellerautorin Jasmin Schreiber\, erzählt Regisseur
 in und Drehbuchautorin Eileen Byrne in MARIANENGRABEN eine zu Herz gehende
  Geschichte über den Tod und darüber am Leben zu bleiben. In ihrem bemer
 kenswerten Spielfilmdebüt vereint Byrne den bekannten deutschen Charakter
 darsteller Edgar Selge und den Schweizer Shooting-Star Luna Wedler als ung
 leiches wie herzerwärmendes Duo vor der Kamera.<br>Komödie\, Drama\, LU\
 , AT\, IT\, DE\, 2024\, 86Min. <br>Altersfreigabe: ab 12<br>Sprache: D<br>
 Darsteller: Edgar  Selge\, Luna  Wedler\, Nicolas  Lech<br>Regie: Eileen  
 Byrne<br>
DTSTART:20260426T110000
DTEND:20260426T140000
LOCATION:Schlachthofkino\, Ulrichertor 4\, 59494 Soest\, 
END:VEVENT
BEGIN:VTIMEZONE
TZID:Europe/Berlin
BEGIN:DAYLIGHT
DTSTART:20260426T110000
TZNAME:CEST
TZOFFSETTO:+0200
TZOFFSETFROM:+0200
END:DAYLIGHT
END:VTIMEZONE
END:VCALENDAR
