BEGIN:VCALENDAR
PRODID:-//eluceo/ical//2.0/EN
VERSION:2.0
CALSCALE:GREGORIAN
BEGIN:VEVENT
UID:41de791bc0c918de752fcb88c2a6688c
DTSTAMP:20260424T160441Z
SUMMARY:Die drei ??? – Toteninsel
DESCRIPTION:Die Sommerferien haben begonnen und Die drei ??? wollen einen R
 oadtrip unternehmen. Doch gerade als Justus Jonas\, Peter Shaw und Bob And
 rews aufbrechen wollen\, klingelt in der Zentrale das Telefon und ein unbe
 kannter Anrufer übergibt dem Detektiv-Trio ihren neuesten Fall. Da sind d
 ie Urlaubspläne natürlich schnell vergessen. Die drei Jungs verfolgen di
 e Spuren und stoßen auf den Geheimbund Sphinx rund um den mysteriösen Ar
 chäologie-Professor Phoenix und seinen Assistenten Olin. Sphinx führt il
 legale Ausgrabungen durch und verkauft die so gestohlenen Kunstschätze. B
 ald starten sie eine Expedition zu der aktiven Vulkaninsel Makatao\, die a
 uch als die Toteninsel bekannt ist. Denn die dort gelegene Ruhestätte ein
 es uralten Volkes soll mit einem Fluch belegt sein: Niemand\, der Makatao 
 betritt\, kommt lebend zurück. Warum begibt sich Sphinx auf eine so wagha
 lsige Reise? Und was hat der erfolgreiche Unternehmer Joseph Saito Hadden 
 mit der Expedition zu tun?<br>Abenteuer\, DE\, 2025\, 104Min. <br>Altersfr
 eigabe: ab 6<br>Sprache: D<br>Darsteller: Julius Weckauf\, Nevio Wendt\, L
 evi  Brandl<br>Regie: Tim Dünschede<br>
DTSTART:20260429T143000
DTEND:20260429T173000
LOCATION:Schlachthofkino\, Ulrichertor 4\, 59494 Soest\, 
END:VEVENT
BEGIN:VTIMEZONE
TZID:Europe/Berlin
BEGIN:DAYLIGHT
DTSTART:20260429T143000
TZNAME:CEST
TZOFFSETTO:+0200
TZOFFSETFROM:+0200
END:DAYLIGHT
END:VTIMEZONE
END:VCALENDAR
