BEGIN:VCALENDAR
PRODID:-//eluceo/ical//2.0/EN
VERSION:2.0
CALSCALE:GREGORIAN
BEGIN:VEVENT
UID:de1edf23ea65503cce24a93e6f11bb35
DTSTAMP:20260424T135314Z
SUMMARY:Die reichste Frau der Welt
DESCRIPTION:Die reichste Frau der Welt: Voller Schönheit\, Intelligenz und
  grenzenloser Macht. Sie begegnet einem Fotografen voll unverschämtem Ehr
 geiz und angetrieben von einem Wahnsinn\, der auch Genie sein könnte. Es 
 ist Liebe auf den ersten Blick. Mit kreativer Boshaftigkeit nistet er sich
  ein – in den altehrwürdigen Machtstrukturen dieser Familie und ihrem g
 renzenlosen Luxus. Doch da ist auch noch eine Tochter\, die um ihr Erbe\, 
 die Familie und die Liebe ihrer Mutter kämpft. Und ein Butler\, der mehr 
 weiß als er sagt. Über Familiengeheimnisse und fragwürdige Spenden in a
 stronomischen Höhen. Es beginnt ein Krieg\, dem alle Mittel recht sind.\n
 \nEin berauschend komisches Drama\, das in seinen Abgründen an Shakespear
 e erinnert: DIE REICHSTE FRAU DER WELT mit einer brillanten Isabelle Huppe
 rt in der Titelrolle ist eine so grandiose wie doppelbödige Satire über 
 die Macht des Geldes und den verführerischen Glauben an eine Familie\, di
 e ihr widerstehen könnte.\n\nDienstag 28.4. im Strick:Kino. Bei gedimmtem
  Licht darf dann während des Films läuft gestrickt oder gehäkelt werden
 .<br>Drama\, Comedy\, FR\, BE\, 2025\, 123Min. <br>Altersfreigabe: ab 12<b
 r>Sprache: D<br>Darsteller: Laurent Lafitte\, Marina Fois\, Isabelle Huppe
 rt<br>Regie: Thierry Klifa<br>
DTSTART:20260429T200000
DTEND:20260429T230000
LOCATION:Schlachthofkino\, Ulrichertor 4\, 59494 Soest\, 
END:VEVENT
BEGIN:VTIMEZONE
TZID:Europe/Berlin
BEGIN:DAYLIGHT
DTSTART:20260429T200000
TZNAME:CEST
TZOFFSETTO:+0200
TZOFFSETFROM:+0200
END:DAYLIGHT
END:VTIMEZONE
END:VCALENDAR
