BEGIN:VCALENDAR
PRODID:-//eluceo/ical//2.0/EN
VERSION:2.0
CALSCALE:GREGORIAN
BEGIN:VEVENT
UID:9d91e8c8f1e73a507310a3ba692bb84c
DTSTAMP:20260424T160433Z
SUMMARY:The History of Sound
DESCRIPTION:Im Jahr 1917 verschlägt es den zurückhaltenden und talentiert
 en Musikstudenten Lionel vom ländlichen Kentucky an die Ostküste\, wo er
  am Boston Conservatory seinen charmanten und selbstbewussten Kommilitonen
  David kennenlernt. Über ihre gemeinsame\, tief empfundene Liebe zu tradi
 tioneller Folk-Musik kommen sich die beiden näher\, doch dann wird David 
 als Soldat eingezogen. Einige Jahre später erreicht Lionel ein Brief\, in
  dem David seinen Freund bittet\, ihn auf einer Reise durch die Wälder vo
 n Maine zu begleiten. Die beiden Männer teilen nicht nur Momente inniger 
 Zweisamkeit\, sondern entdecken in ländlichen Gemeinden auch fast in Verg
 essenheit geratene Folk-Musik. Das sehnlich erwartete Wiedersehen\, ihre l
 eidenschaftliche Liebesgeschichte und die von ihnen gesammelte und bewahrt
 e Musik werden den Verlauf von Lionels Leben für immer prägen.<br>Drama\
 , Romanze\, US\, 2025\, 129Min. <br>Altersfreigabe: ab 6<br>Sprache: D<br>
 Darsteller: Paul Mescal\, Raphael Sbarge\, Leo Cocovinis\, Chris Cooper\, 
 Josh O'Connor<br>Regie: \n    <br>
DTSTART:20260503T200000
DTEND:20260503T230000
LOCATION:Schlachthofkino\, Ulrichertor 4\, 59494 Soest\, 
END:VEVENT
BEGIN:VTIMEZONE
TZID:Europe/Berlin
BEGIN:DAYLIGHT
DTSTART:20260503T200000
TZNAME:CEST
TZOFFSETTO:+0200
TZOFFSETFROM:+0200
END:DAYLIGHT
END:VTIMEZONE
END:VCALENDAR
