BEGIN:VCALENDAR
PRODID:-//eluceo/ical//2.0/EN
VERSION:2.0
CALSCALE:GREGORIAN
BEGIN:VEVENT
UID:7586badcff4d84f9d404dd3ed41ea5c0
DTSTAMP:20260424T160442Z
SUMMARY:Ach\, diese Lücke\, diese entsetzliche Lücke
DESCRIPTION:Mit 20 wird Joachim unerwartet an der renommierten Schauspielsc
 hule in München angenommen und zieht in die Villa zu seinen Großeltern\,
  Inge und Hermann. Zwischen den skurrilen Herausforderungen der Schauspiel
 schule und den exzentrischen\, meist alkoholgetränkten Ritualen seiner Gr
 oßeltern versucht Joachim seinen Platz in der Welt zu finden – ohne zu 
 wissen\, welche Rolle er darin eigentlich spielt.\nIrrsinnig komisch und t
 ief berührend erzählt Regisseur und Autor Simon Verhoeven davon\, wie sc
 hwierig es ist\, sich seinen großen Gefühlen zu stellen.<br>Drama\, Kom
 ödie\, DE\, 2025\, 137Min. <br>Altersfreigabe: ab 6<br>Sprache: D<br>Dars
 teller: Bruno  Alexander\, Senta  Berger\, Michael  Wittenborn<br>Regie: S
 imon  Verhoeven<br>
DTSTART:20260522T170000
DTEND:20260522T200000
LOCATION:Schlachthofkino\, Ulrichertor 4\, 59494 Soest\, 
END:VEVENT
BEGIN:VTIMEZONE
TZID:Europe/Berlin
BEGIN:DAYLIGHT
DTSTART:20260522T170000
TZNAME:CEST
TZOFFSETTO:+0200
TZOFFSETFROM:+0200
END:DAYLIGHT
END:VTIMEZONE
END:VCALENDAR
