BEGIN:VCALENDAR
PRODID:-//eluceo/ical//2.0/EN
VERSION:2.0
CALSCALE:GREGORIAN
BEGIN:VEVENT
UID:6a52368b683dab59d1fb1e67335da4fb
DTSTAMP:20260425T025014Z
SUMMARY:Siri Hustvedt - Dance around the self
DESCRIPTION:Jung\, neugierig und voller Tatendrang verlässt Siri Hustvedt 
 ihre Heimat Minnesota und stürzt sich mitten hinein ins pulsierende New Y
 ork. Auf der Suche nach der Hauptfigur ihres ersten Romans beginnt eine Re
 ise\, die sie nicht nur zur Schriftstellerin macht\, sondern zu einer der 
 wichtigsten Stimmen der amerikanischen Gegenwartsliteratur. Der Film öffn
 et einen Blick weit über Siri Hustvedt hinaus und feiert die kämpferisch
 e Kreativität von Künstlerinnen\, denen die Autorin sich verbunden fühl
 t. Zugleich erzählt SIRI HUSTVEDT - DANCE AROUND THE SELF die einzigartig
 e Liebesgeschichte des legendären Autorenpaares aus Brooklyn: Siri Hustve
 dt und Paul Auster. Doch während die beiden über Sprache\, Identität un
 d die Kraft der Worte nachdenken\, bricht das Leben herein: Paul Auster wi
 rd schwer krank. Auch nach seinem Tod endet die gemeinsame Geschichte nich
 t: Siri Hustvedt beginnt den Verlust ihres „Lebensmenschen“ im Buch 
 „Ghost Stories: Ein Buch der Erinnerung“ literarisch zu verarbeiten.\n
 Drei Jahre lang folgt Sabine Lidl den Gedanken und Geschichten\, die Siri 
 Hustvedt zu einer der wichtigsten intellektuellen und feministischen Stimm
 en der amerikanischen Literatur gemacht haben. Gemeinsam sind sie immer in
  Bewegung\, durch Zeit und Raum\, imaginär zwischen den Disziplinen\, der
 en Grenzen Siri Hustvedt nicht gelten lässt.<br>Dokumentarfilm\, \n    \,
  2026\, 111Min. <br>Altersfreigabe: ab 12<br>Sprache: OmU<br>Darsteller: \
 n    <br>Regie: \n    <br>
DTSTART:20260523T170000
DTEND:20260523T200000
LOCATION:Schlachthofkino\, Ulrichertor 4\, 59494 Soest\, 
END:VEVENT
BEGIN:VTIMEZONE
TZID:Europe/Berlin
BEGIN:DAYLIGHT
DTSTART:20260523T170000
TZNAME:CEST
TZOFFSETTO:+0200
TZOFFSETFROM:+0200
END:DAYLIGHT
END:VTIMEZONE
END:VCALENDAR
