BEGIN:VCALENDAR
PRODID:-//eluceo/ical//2.0/EN
VERSION:2.0
CALSCALE:GREGORIAN
BEGIN:VEVENT
UID:c4a92e74541f026e804b83aec613268c
DTSTAMP:20260425T024945Z
SUMMARY:Das Team-Quiz 42!
DESCRIPTION:Wie hieß der zweite Mann auf dem Mond? In welcher Stadt ermitt
 eln die Drei Fragezeichen? \nWie oft gewann Boris Becker Wimbledon? \nSeit
  wann gibt es das Kulturhaus "Alter Schlachthof"?\nWer das weiß\, sollte 
 auf keinen Fall das Teamquiz im Kulturhaus verpassen \nund sich gleich im 
 Team anmelden!\n\n6 Spielrunden\, 6 Themengebiete und jede Menge Spaß!\nB
 ei den Fragen von Quizmaster Mario Siegesmund können sich Teams von 2 bis
  6 Teilnehmer \nin verschiedenen Kategorien messen und maximal 42 Punkte e
 rzielen.\n\nDer Spaß steht im Vordergrund\, wenn das Wissen der Teams bei
  interessanten Themen \nund skurrilen Schätzfragen abgeklopft wird.\nNat
 ürlich alles ohne Handy\, sondern durch eigenen Gehirnschmalz.\nEin Highl
 ight: Die Musik-Runde!\n\nNeben dem Ruhm winkt dem Gewinner-Team auch ein 
 kleiner Preis.\n\nAnmeldungen der Teams direkt hier: Kulturhaus Alter Schl
 achthof\nTelefon: 02921/311 01\nMail: info@schlachthof-soest.de\nDie Teiln
 ahmegebühr beträgt 6€ pro Person.
DTSTART:20260520T193000
DTEND:20260520T220000
LOCATION:Kulturhaus Alter Schlachthof Soest\, Ulrichertor 4\, 59494 Soest\,
  
END:VEVENT
BEGIN:VTIMEZONE
TZID:Europe/Berlin
BEGIN:DAYLIGHT
DTSTART:20260520T193000
TZNAME:CEST
TZOFFSETTO:+0200
TZOFFSETFROM:+0200
END:DAYLIGHT
END:VTIMEZONE
END:VCALENDAR
