BEGIN:VCALENDAR
PRODID:-//eluceo/ical//2.0/EN
VERSION:2.0
CALSCALE:GREGORIAN
BEGIN:VEVENT
UID:28342c50f70b67c5ae86642d70ce4ed5
DTSTAMP:20260424T233210Z
SUMMARY:Hauswandtrödel
DESCRIPTION:
DTSTART:20260419T110000
DTEND:20260419T170000
LOCATION:Drostengasse\, 59494 Soest\, 
END:VEVENT
BEGIN:VTIMEZONE
TZID:Europe/Berlin
BEGIN:DAYLIGHT
DTSTART:20260419T110000
TZNAME:CEST
TZOFFSETTO:+0200
TZOFFSETFROM:+0200
END:DAYLIGHT
END:VTIMEZONE
END:VCALENDAR
