BEGIN:VCALENDAR
PRODID:-//eluceo/ical//2.0/EN
VERSION:2.0
CALSCALE:GREGORIAN
BEGIN:VEVENT
UID:9f72bebbe2be76bc5c1e34266386ba23
DTSTAMP:20260424T160440Z
SUMMARY:Soest geht Tanzen! Live: The WyattChristmas Five
DESCRIPTION:Es wird nostalgisch bei uns\, denn der Boogie-Woogie aus dem ve
 rgangenen Jahrhundert kehrt wieder \nzurück. Was diesen Tanz so besonders
  macht\, ist seine Vielfältigkeit: Der Boogie-Woogie ist frei und \nfolgt
  keiner festen Choreografie – er lebt von der spontanen Kreativität der
  Tänzer. Ursprünglich in den \n1940er Jahren populär geworden\, ist der
  Boogie-Woogie heute noch eine lebendige Ausdrucksform. \nDie Freiheit\, d
 ie dieser Tanz bietet\, erlaubt es jedem\, ihn auf seine eigene Weise zu i
 nterpretieren und \nsich kreativ auszuleben. Genau das macht ihn so einzig
 artig.\n\nThe WyattChristmas Five:\nDrei…Vier…Fünf…! Mehr als 15 Ja
 hre ist die Band nun schon aktiv und mittlerweile ist aus dem Trio\nein Qu
 intett geworden\, eben The WyattChristmas Five. Seit dem Start 2006 hat si
 ch nicht nur der Sound \nverändert\, sondern auch das komplette Line-Up: 
 Von der ursprünglichen Besetzung ist nur der Gründer \nund Songwriter An
 dy WyattChristmas übrig geblieben. Peter Kühn an der Harp\, Gitarre und 
 Gesang stieg \n2015 ein\, 2017 folgten dann Martina Jansen am Piano\, Olaf
  Schumacher am Kontrabass und Philip Flottau \nam Schlagzeug. Die Fünf er
 zeugen ein brilliantes Musikfeuerwerk aus Blues\, Swing und Rockabilly in 
 \neiner extrem abwechslungsreichen und tanzbaren Form! Mehrstimmiger Gesan
 g\, Boogie-Woogie-Piano\, \ntreibender Shuffle-Groove\, Blues-Harp und ein
 e sehr flexible Sologitarre geben der Band alle Möglich-\nkeiten\, immer 
 neue musikalische Salven abzufeuern (Wyatt Earp lässt grüßen)… The Wy
 attChristmas Five \nsind regelmäßig in Deutschland und in den angrenzend
 en Ländern unterwegs\, um für stilgerechte \nBeschallung zu sorgen. Die 
 Band hat unter anderem schon auf dem Firebirds Festival (GER)\, \nBethune 
 Retro (FR)\, Rollin’ Dudes (AT)\, Moersquake (GER)\, Feel The 50ies (NL)
 \, \nWalldorf Weekender (GER)\, Rockin‘ Around The Christmas Tree (GER) 
 und vielen weiteren Events gespielt.
DTSTART:20260502T190000
DTEND:20260502T220000
LOCATION:Kulturhaus Alter Schlachthof Soest\, Ulrichertor 4\, 59494 Soest\,
  
END:VEVENT
BEGIN:VTIMEZONE
TZID:Europe/Berlin
BEGIN:DAYLIGHT
DTSTART:20260502T190000
TZNAME:CEST
TZOFFSETTO:+0200
TZOFFSETFROM:+0200
END:DAYLIGHT
END:VTIMEZONE
END:VCALENDAR
