BEGIN:VCALENDAR
PRODID:-//eluceo/ical//2.0/EN
VERSION:2.0
CALSCALE:GREGORIAN
BEGIN:VEVENT
UID:a617625eaf88f4e047ad02670f9d3533
DTSTAMP:20260424T225150Z
SUMMARY:Günter Rückert liest aus seinem neuen Buch "Blagen -zwischen Heid
 e und Köttelbecke"
DESCRIPTION:Blagen: Zwischen Halde und Köttelbecke Gebundene Ausgabe<br />
 \nvon Günter Rückert (Autor)<br />\n<br />\nWir – die Ruhrpott Blagen 
 – prügelten uns um die Hinterkeule eines Karnickels\, wir pöhlten mit 
 allem\, was rund war\, gründeten ohne Instrumente eine Band\, wurden Blut
 sbrüder am Stacheldraht. Ich wurde zum Helden der schwanzlosen Krähe und
  Primeln verdarben mir die Lust am Beten. Tante Luzzie konnte Katzen zeich
 nen\, ich zeichnete lieber Pferde. Königsberger Klopse mit Kapern sind mi
 r ein Graus\, die Rote Beete sowieso.<br />\nDiese Geschichten aus meiner 
 Kindheit zwischen Köttelbecke und Halde können die Welt nicht verbessern
 \, lassen aber tief in die Stollen menschlichen Theaters in einer Zechensi
 edlung blicken.<br />\nGünter Rückert verbringt seine Endlichkeit in Dor
 tmund\, malt und zeichnet sich durch die Tragikomik des Alltags und arbeit
 et als Autor für zahlreiche Kabarett- und Kleinkunstprojekte.
DTSTART:20260419T150000
DTEND:20260419T170000
LOCATION:Kunstverein Kreis Soest\, Jakobistraße 17\, 59494 Soest\, 
END:VEVENT
BEGIN:VTIMEZONE
TZID:Europe/Berlin
BEGIN:DAYLIGHT
DTSTART:20260419T150000
TZNAME:CEST
TZOFFSETTO:+0200
TZOFFSETFROM:+0200
END:DAYLIGHT
END:VTIMEZONE
END:VCALENDAR
