BEGIN:VCALENDAR
PRODID:-//eluceo/ical//2.0/EN
VERSION:2.0
CALSCALE:GREGORIAN
BEGIN:VEVENT
UID:c58b59ce54963ca98ed68284abcc7954
DTSTAMP:20260424T225140Z
SUMMARY:Dorftrödel Ostönnen
DESCRIPTION:Am 19. April verwandelt sich das Kerndorf von Ostönnen erstmal
 s in ein lebendiges Paradies für Trödelfans und Neugierige: Beim ersten 
 Dorftrödel öffnen über 60 private Haushalte ihre Höfe\, Gärten und Ga
 ragen und bieten eine bunte Vielfalt an Gegenständen zum Verkauf an. Von 
 10:00 bis 16:00 Uhr sind Besucher herzlich eingeladen\, durch die Straßen
  und Gassen des Dorfes zu schlendern und nach besonderen Schätzen zu such
 en.
DTSTART:20260419T100000
DTEND:20260419T160000
LOCATION:Kerndorf Ostönnen\, 59494 Soest-Ostönnen\, 
END:VEVENT
BEGIN:VTIMEZONE
TZID:Europe/Berlin
BEGIN:DAYLIGHT
DTSTART:20260419T100000
TZNAME:CEST
TZOFFSETTO:+0200
TZOFFSETFROM:+0200
END:DAYLIGHT
END:VTIMEZONE
END:VCALENDAR
