BEGIN:VCALENDAR
PRODID:-//eluceo/ical//2.0/EN
VERSION:2.0
CALSCALE:GREGORIAN
BEGIN:VEVENT
UID:83408763d12898425fae59657be1a17f
DTSTAMP:20260425T014819Z
SUMMARY:Romería - Das Tagebuch meiner Mutter
DESCRIPTION:Donnerstag 7.5. um 20 Uhr als Sondervorstellung in Kooperation 
 mit dem Kreis Soest bei freiem Eintritt mit anschließendem Publikumsgespr
 äch mit der AIDS-Hilfe Kreis Soest.\n\nFilminhalt:\nDie 18jährige Marina
  ist nach dem frühen Aids-Tod ihrer Eltern bei der Familie ihrer Mutter i
 n Katalonien aufgewachsen. Nun reist sie nach Vigo an die galicische Atlan
 tikküste\, um zum ersten Mal die Familie ihres Vaters Fon zu treffen und 
 mit eigenen Augen zu sehen\, wo ihre Eltern die kurze\, wilde Zeit ihrer L
 iebe in den 80er Jahren erlebten\, im Aufbruch nach Ende der Franco-Diktat
 ur. Eigentlicher Anlass von Marinas Reise ist eine simple Formalie: Für i
 hr Stipendium an der Filmhochschule braucht sie die Sterbeurkunde ihres Va
 ters. Zu ihrem Erstaunen weist das Dokument Fon als kinderlos aus\, ein Fe
 hler\, der sich durch die Unterschrift der Großeltern leicht korrigieren 
 ließe. \nMarina wird von der Familie in Galicien mit offenen Armen empfan
 gen. Sie taucht ein in eine schwirrende Welt voller neuer Tanten\, Onkeln\
 , Cousins und Kusinen – und Geschichten\, die sich auf seltsame Weise wi
 dersprechen. Ihre Ankunft rührt lange verschüttete Emotionen auf\, verdr
 ängte Gefühle\, Scham\, Schmerz und Zärtlichkeit. Hinter den Erzählung
 en\, den Lügen\, der Liebe und dem Schweigen der anderen zeichnet sich ab
 \, wie das Leben ihrer Eltern gewesen sein könnte. Für Marina beginnt\, 
 begleitet vom Tagebuch ihrer Mutter\, die aufwühlende Reise in eine Erinn
 erung\, die sie sich selbst schaffen muss.<br>Drama\, ES\, DE\, 2025\, 112
 Min. <br>Altersfreigabe: ab 16<br>Sprache: D<br>Darsteller: Janet Novás\,
  Mitch Martín\, Celine Tyll\, Miryam Gallego\, Tristán Ulloa<br>Regie: C
 arla Simón<br>
DTSTART:20260507T170000
DTEND:20260507T200000
LOCATION:Schlachthofkino\, Ulrichertor 4\, 59494 Soest\, 
END:VEVENT
BEGIN:VTIMEZONE
TZID:Europe/Berlin
BEGIN:DAYLIGHT
DTSTART:20260507T170000
TZNAME:CEST
TZOFFSETTO:+0200
TZOFFSETFROM:+0200
END:DAYLIGHT
END:VTIMEZONE
END:VCALENDAR
