BEGIN:VCALENDAR
PRODID:-//eluceo/ical//2.0/EN
VERSION:2.0
CALSCALE:GREGORIAN
BEGIN:VEVENT
UID:6d76d862a11428e089d338ffff1b6804
DTSTAMP:20260424T180910Z
SUMMARY:Der Magier im Kreml
DESCRIPTION:Russland\, Anfang der 1990er Jahre. Die UdSSR ist zusammengebro
 chen. Mitten im Chaos eines Landes\, das sich neu finden muss\, macht ein 
 äußerst intelligenter junger Mann\, Wadim Baranow\, Karriere. Zunächst 
 Avantgarde-Künstler\, dann Produzent von Reality-TV-Shows\, wird er inoff
 izieller Berater eines ehemaligen KGB-Agenten\, der die absolute Macht an 
 sich reißen soll\, dem Mann\, der bald als „Der Zar" bekannt sein wird\
 , Wladimir Putin. Tief im Herzen des Systems wird Baranow zum Strippenzieh
 er des neuen Russlands und prägt Reden\, Sichtweisen und Fantasien. Nur e
 ine Figur entzieht sich seiner Kontrolle: Ksenia\, eine freiheitsliebende 
 und unabhängig Frau\, die die Möglichkeit der Flucht verkörpert – wei
 t entfernt von politischer Macht und Einfluss. Fünfzehn Jahre nach seinem
  Rückzug aus der Öffentlichkeit ist Baranow bereit auszupacken. Was er o
 ffenbart\, verwischt die Grenzen zwischen Wahrheit und Fiktion\, Glaube un
 d Strategie.\n\nDER MAGIER IM KREML ist ein Abstieg in die dunklen Korrido
 re der Macht\, wo jedes Wort einem Plan dient und den Lauf der Welt verän
 dern kann. Basierend auf dem Roman von Giuliano Da Empoli.<br>Historical\,
  Thriller\, Drama\, FR\, US\, 2025\, 146Min. <br>Altersfreigabe: ab 12<br>
 Sprache: D<br>Darsteller: Tom Sturridge\, Jude Law\, Paul Dano\, Alicia Vi
 kander\, Jeffrey Wright<br>Regie: Olivier Assayas<br>
DTSTART:20260514T200000
DTEND:20260514T230000
LOCATION:Schlachthofkino\, Ulrichertor 4\, 59494 Soest\, 
END:VEVENT
BEGIN:VTIMEZONE
TZID:Europe/Berlin
BEGIN:DAYLIGHT
DTSTART:20260514T200000
TZNAME:CEST
TZOFFSETTO:+0200
TZOFFSETFROM:+0200
END:DAYLIGHT
END:VTIMEZONE
END:VCALENDAR
