BEGIN:VCALENDAR
PRODID:-//eluceo/ical//2.0/EN
VERSION:2.0
CALSCALE:GREGORIAN
BEGIN:VEVENT
UID:32a75325d594dd3c44af016ea5b94e89
DTSTAMP:20260425T004618Z
SUMMARY:Jazz Session - Open Stage
DESCRIPTION:Open Stage - play with a real band! Die JIGS sorgt für die Rhy
 tm-Section\, die einsteigenden Musiker*innen für melodische und energiege
 ladene Solos.\nKommt vorbei und macht mit! Oder hört einfach zu.\n\nEintr
 itt ist frei!
DTSTART:20260505T190000
DTEND:20260505T220000
LOCATION:Kulturhaus Alter Schlachthof Soest\, Ulrichertor 4\, 59494 Soest\,
  
END:VEVENT
BEGIN:VTIMEZONE
TZID:Europe/Berlin
BEGIN:DAYLIGHT
DTSTART:20260505T190000
TZNAME:CEST
TZOFFSETTO:+0200
TZOFFSETFROM:+0200
END:DAYLIGHT
END:VTIMEZONE
END:VCALENDAR
