BEGIN:VCALENDAR
PRODID:-//eluceo/ical//2.0/EN
VERSION:2.0
CALSCALE:GREGORIAN
BEGIN:VEVENT
UID:6548e29f0a5cdab2d07c24d17a1a57f3
DTSTAMP:20260425T014740Z
SUMMARY:Pumuckl und das große Missverständnis
DESCRIPTION:Eine Schildkröte\, ein Ausflug aufs Land und dann auch noch Na
 chbar Burkes Geburtstag: Bei Pumuckl und Eder ist in diesem Sommer ganz sc
 hön viel los! Zu viel vielleicht – denn bei so vielen Ereignissen schaf
 fen es die beiden kaum noch\, ordentlich miteinander zu sprechen. Zwischen
  Eder und Pumuckl kommt es zu einem großen Missverständnis und die besch
 auliche Welt der beiden droht auseinanderzubrechen. \nPumuckl neckt\, Pumu
 ckl versteckt und niemand was meckt: Der Kobold mit dem roten Haar und der
  groooßen Vorliebe für Schabernack ist zurück! In PUMUCKL UND DAS GROSS
 E MISSVERSTÄNDNIS sorgt der freche Klabauter für jede Menge Durcheinande
 r auf der großen Leinwand.<br>Familienfilm\, DE\, 2025\, 98Min. <br>Alter
 sfreigabe: ab 0<br>Sprache: D<br>Darsteller: Florian  Brückner\, Maximili
 an  Schafroth\, Gisela  Schneeberger<br>Regie: Marcus H.  Rosenmüller<br>
DTSTART:20260510T143000
DTEND:20260510T173000
LOCATION:Schlachthofkino\, Ulrichertor 4\, 59494 Soest\, 
END:VEVENT
BEGIN:VTIMEZONE
TZID:Europe/Berlin
BEGIN:DAYLIGHT
DTSTART:20260510T143000
TZNAME:CEST
TZOFFSETTO:+0200
TZOFFSETFROM:+0200
END:DAYLIGHT
END:VTIMEZONE
END:VCALENDAR
