BEGIN:VCALENDAR
PRODID:-//eluceo/ical//2.0/EN
VERSION:2.0
CALSCALE:GREGORIAN
BEGIN:VEVENT
UID:db6abe6b622f9ac2f1aab0858f8e575b
DTSTAMP:20260424T162920Z
SUMMARY:Zoomania 2
DESCRIPTION:Ex-Gauner-Fuchs Nick Wilde und Polizeianfänger-Häsin Judy Hop
 ps haben gemeinsam den bis dato größten Fall in der Geschichte von Zooma
 nia gelöst und wollen ihre ungewöhnliche Zusammenarbeit nun als frischge
 backene Partner fortsetzen. Doch das ist längst kein Selbstläufer und di
 e beiden hadern miteinander. Chief Bogo schickt die beiden deshalb zum The
 rapieprogramm „Partner in Krisen“. Doch es dauert auch nicht lange\, b
 is das Duo direkt in einen richtigen Fall und damit das nächste Abenteuer
  stolpert. Die Giftschlange Gary De’Snake taucht in der tierischen Metro
 pole auf und sorgt für Chaos und Panik\, schließlich wurde ein solches g
 efährliches Reptil seit vielen Jahren nicht mehr in der Stadt gesichtet. 
 Nick und Judy wollen herausfinden\, was es damit auf sich hat\, und müsse
 n sich dafür auf einen gefährlichen Undercover-Einsatz in Ecken von Zoom
 ania begeben\, die selbst ihnen unbekannt sind.<br>Animation\, Abenteuer\,
  Komödie\, US\, 2025\, 108Min. <br>Altersfreigabe: ab 6<br>Sprache: D<br>
 Darsteller: Ginnifer Goodwin\, Jason Bateman\, Ke Huy<br>Regie: Jared  Bus
 h\, Byron Howard<br>
DTSTART:20260515T143000
DTEND:20260515T173000
LOCATION:Schlachthofkino\, Ulrichertor 4\, 59494 Soest\, 
END:VEVENT
BEGIN:VTIMEZONE
TZID:Europe/Berlin
BEGIN:DAYLIGHT
DTSTART:20260515T143000
TZNAME:CEST
TZOFFSETTO:+0200
TZOFFSETFROM:+0200
END:DAYLIGHT
END:VTIMEZONE
END:VCALENDAR
