BEGIN:VCALENDAR
PRODID:-//eluceo/ical//2.0/EN
VERSION:2.0
CALSCALE:GREGORIAN
BEGIN:VEVENT
UID:11f39c90f0453178b5b5b7b4f842bf7b
DTSTAMP:20260424T233024Z
SUMMARY:Rose
DESCRIPTION:In den Wirren des 30-jährigen Krieges erscheint ein mysteriös
 er Soldat in einem abgeschiedenen protestantischen Dorf. Schweigsam\, schm
 al\, das Gesicht durch eine Narbe entstellt. Der Fremde behauptet\, Erbe e
 ines seit langem verlassenen Gutshofs zu sein\, und kann ein Dokument vorl
 egen\, das seinen Anspruch bestätigt. Zum großen Missfallen der Dorfgeme
 inde. Allerdings setzt der Fremde alles daran\, hier sein Glück zu finden
 . Sein Streben nach Anerkennung und Akzeptanz werden aber durch sein Gehei
 mnis erschwert: Unter falscher Identität\, unter falschem Namen und unter
  Vortäuschung eines falschen Geschlechts hat der Soldat seinen Weg in das
  Dorf genommen. Doch um seine Ziele zu erreichen\, wird er auch nicht vor 
 der Unmöglichkeit einer arrangierten Ehe mit der Tochter eines Großbauer
 n zurückschrecken. Denn wer so weit gekommen ist\, hält bald alles für 
 möglich.\n\nROSE – die wahrhaftige Beschreibung einer Land- und Leutebe
 trügerin\, die\, obwohl als eine Weibs-Person geboren dem zum Trotz unter
  falschem Nam als Manns-Bild sich betragen\, und viel üble Schandtat hat 
 getrieben.<br>Drama\, DE\, 2026\, 94Min. <br>Altersfreigabe: ab 12<br>Spra
 che: D<br>Darsteller: Sandra  Hüller\, Caro  Braun\, Marisa  Growaldt<br>
 Regie: Markus  Schleinzer<br>
DTSTART:20260523T200000
DTEND:20260523T230000
LOCATION:Schlachthofkino\, Ulrichertor 4\, 59494 Soest\, 
END:VEVENT
BEGIN:VTIMEZONE
TZID:Europe/Berlin
BEGIN:DAYLIGHT
DTSTART:20260523T200000
TZNAME:CEST
TZOFFSETTO:+0200
TZOFFSETFROM:+0200
END:DAYLIGHT
END:VTIMEZONE
END:VCALENDAR
