BEGIN:VCALENDAR
PRODID:-//eluceo/ical//2.0/EN
VERSION:2.0
CALSCALE:GREGORIAN
BEGIN:VEVENT
UID:5fc60f9c734cac844bed3c78399fea90
DTSTAMP:20260424T180819Z
SUMMARY:Momo
DESCRIPTION:Das junge Waisenmädchen Momo lebt in den Ruinen eines alten r
 ömischen Amphitheaters und hat ein offenes Ohr für jeden in der Nachbars
 chaft. Aber am liebsten verbringt sie die Tage mit ihrem besten Freund Gin
 o. Doch als ein mächtiger internationaler Konzern beginnt\, die Zeit alle
 r Menschen zu stehlen\, hat plötzlich niemand mehr Zeit für sie. Noch ni
 cht mal Gino! Momo verzweifelt. Doch dann taucht eine geheimnisvolle Schil
 dkröte auf und führt sie zu Meister Hora\, dem Hüter der Zeit. Gemeinsa
 m können sie es mit den Zeit-Dieben aufnehmen – doch wird ihr Plan aufg
 ehen? Ein spannender Wettlauf beginnt… \n\nMOMO ist weit mehr als ein Ki
 nderbuchklassiker. Es ist ein modernes Gleichnis darüber\, wie uns die Ze
 it geraubt wird – von Konzernen\, von Ablenkung\, von Leistungsdruck. De
 r Film stellt eine Frage\, die heute ebenso dringlich ist wie zu Zeiten Mi
 chael Endes: Was geschieht\, wenn wir verlernen zuzuhören\, zu spielen un
 d wirklich zu leben?<br>Familienfilm\, Fantasy\, DE\, 2025\, 91Min. <br>Al
 tersfreigabe: ab 6<br>Sprache: D<br>Darsteller: Alexa Goodall\, Martin Fre
 eman\, Araloyin Oshunremi\, Kim Bodnia\, Claes Bang\, Laura Haddock\, Jenn
 ifer Amaka Pettersson\, David Schütter\, Charlie Mann\, Simon Curcija<br>
 Regie: Christian Ditter<br>
DTSTART:20260524T143000
DTEND:20260524T173000
LOCATION:Schlachthofkino\, Ulrichertor 4\, 59494 Soest\, 
END:VEVENT
BEGIN:VTIMEZONE
TZID:Europe/Berlin
BEGIN:DAYLIGHT
DTSTART:20260524T143000
TZNAME:CEST
TZOFFSETTO:+0200
TZOFFSETFROM:+0200
END:DAYLIGHT
END:VTIMEZONE
END:VCALENDAR
