BEGIN:VCALENDAR
PRODID:-//eluceo/ical//2.0/EN
VERSION:2.0
CALSCALE:GREGORIAN
BEGIN:VEVENT
UID:c06a16d23eb0453492745fa926fe0b27
DTSTAMP:20260424T233150Z
SUMMARY:Band of the Week | mit KIP KASPER & Lestrange
DESCRIPTION:Ein Projekt der Filmakademie Siegersbusch:\n"Junge Bands\, krea
 tive Filmschaffende und lebendige Bühnenmomente: Wir zeigen\, wie viel \n
 kreative Power in der Szene steckt – in diesem einzigartigen Musikvideo-
  und Konzertprojekt \nentstehen wöchentlich neue Live-Sessions und Videoc
 lips an Venues in ganz NRW. Produziert \nvon Studierenden der Siegersbusch
  Filmakademie und lokalen Acts\, präsentiert auf YouTube \n& Social Media
  – authentisch\, lokal und voller Energie."\n\nKIP KASPER sind vier Musi
 ker aus Aachen\, die sich einmal die Woche im Proberaum treffen. \nAus die
 sem Proberaum kommt Alternativerock und Punkrock auf Deutsch\, mit Songs 
 über das\, \nwas gerade ist — irgendwo zwischen Kraftklub\, Van Holzen 
 und team Scheiße.\nIhre Texte kommen aus dem eigenen Alltag: was nervt\, 
 was nicht stimmt\, was trotzdem gut wird. \nLive ist das: Energie\, Hitze 
 und das Gefühl\, einen Abend geteilt zu haben. Wer nach dem Gig am \nlän
 gsten bleibt\, ist meistens die Band. Anti-Ego\, weil es anders keinen Sin
 n macht. Sie nehmen \nihre Musik ernst. Sich selbst nicht. Das Debütalbum
  „Keine Zukunft unter dieser Nummer“ \nerschien Februar 2025. EP in Pr
 oduktion. Neues Album in Vorbereitung.\nBesetzung: Andy Kouchen (Schlagzeu
 g\, Schlagzeuglehrer)\, Sören Dieden (Bass\, Ingenieur)\, \nRafael Gebhar
 dt (Gitarre\, Student)\, Andreas Gaida (Gesang & Gitarre\, Designer).\n\n
 Lestrange lassen sich ebenso wenig einem spezifischen Genre zuordnen\, wie
  diese Welt nur als \ndunkel oder hell beschrieben werden kann. Und auch w
 enn ihre Musik sich der härten Gangart \nzuordnen lässt\, präsentieren 
 Lestrange ihren eigenen Weg schonungslos ehrlich und schaffen so \ndie ein
 prägsame Melange einer kontrastreichen Klanglandschaft: Sie führen das F
 ehlerhafte der \nPerfektion vor\, zeigen fragiles und starkes\, brachiales
  und melodiöses\, persönliches und \nmystisches. Der Spiegel einer selts
 am absurden Realität\, der den Hörer mit harten\, rohen Riffs\nbis zu se
 idigen Klängen\, mit einem fast schon kathartischen Hörerlebnis in den B
 ann seiner \n‚Dazwischenwelt‘ zieht. Wo Dunkelheit ist\, ist auch Lich
 t.\n\n„…there is a crack in everything\, that’s where the light get
 ‘s in.“\n(Leonard Cohen)
DTSTART:20260522T200000
DTEND:20260522T223000
LOCATION:Kulturhaus Alter Schlachthof Soest\, Ulrichertor 4\, 59494 Soest\,
  
END:VEVENT
BEGIN:VTIMEZONE
TZID:Europe/Berlin
BEGIN:DAYLIGHT
DTSTART:20260522T200000
TZNAME:CEST
TZOFFSETTO:+0200
TZOFFSETFROM:+0200
END:DAYLIGHT
END:VTIMEZONE
END:VCALENDAR
