BEGIN:VCALENDAR
PRODID:-//eluceo/ical//2.0/EN
VERSION:2.0
CALSCALE:GREGORIAN
BEGIN:VEVENT
UID:913d8bd970c28ec428f49c4ae1852529
DTSTAMP:20260424T192709Z
SUMMARY:Salsa Kurs für Anfänger mit Vorkenntnissen
DESCRIPTION:In unserem 5-wöchigen Kurs erwartet dich ein energiegeladener 
 Einstieg in die Welt der Salsa Cubana. Ihr werdet euer Bewegungsrepertoire
  erweitern\, Grundschrittvarianten sowie neue Figuren und Kombinationen er
 lernen. \nUnser Unterricht ist locker und praxisnah\, kein klassischer Tan
 zschulunterricht. Du kannst dich mit Tanzpartner oder auch alleine anmelde
 n.\n\nWir sind Javier und Karen\, leidenschaftliche Salsa-Tänzer seit üb
 er 10 Jahren und freuen uns darauf\, dich mit dem Salsa-Fieber anzustecken
 .\n\nEin weiterer Kurs ist ab dem 15. Juni in Planung. Infos und Kontakt u
 nter www.salsasoest.de\nPreise bitte auf der Webseite nachlesen.
DTSTART:20260504T201500
DTEND:20260504T211500
LOCATION:KulturQuartier - Spiegelraum\, Ulrichertor 4\, 59494 Soest\, 
END:VEVENT
BEGIN:VTIMEZONE
TZID:Europe/Berlin
BEGIN:DAYLIGHT
DTSTART:20260504T201500
TZNAME:CEST
TZOFFSETTO:+0200
TZOFFSETFROM:+0200
END:DAYLIGHT
END:VTIMEZONE
END:VCALENDAR
