BEGIN:VCALENDAR
PRODID:-//eluceo/ical//2.0/EN
VERSION:2.0
CALSCALE:GREGORIAN
BEGIN:VEVENT
UID:2184046bf7a218853e67d0b6a4f4438a
DTSTAMP:20260425T025006Z
SUMMARY:hörenswert - Musik am Mittwoch: Easy Jazz
DESCRIPTION:Es wird nicht nur Jazz gespielt.\nVon Swing bis zum Blues und v
 on Rock'n Roll bis Bossa Nova. Die Soester Gruppe \nbegeistert durch ihr b
 reites Spektrum der Musik. Dazu gehören bekannte Standards \nsowie eigene
  Kompositionen\, instrumental oder mit Gesang. Einige Blues Titel\, sogar 
 \nmit Mundharmonika. Fröhliche\, abwechslungsreiche Musik für einen wund
 erbaren Abend \nbei uns in der Gaststätte. Seit vier Jahren ist der Bassi
 st und Gitarrist Massimo Grasso dabei. \nMassimo singt auch Titel wie Azzu
 rro\, Volare und TuVuo Fa L Amrericano in seiner Muttersprache.\nEasy Jazz
  spielt bereits seit über 10 Jahren zusammen.\n\nHelmut Reimer: Trompete\
 , Mundharmonika\, Schifferklavier\, Gesang\nBernhard Kümpel: unterschiedl
 iche Saxophone\nMartin Grewe: Piano\nMassimo Grasso: Bass / Gitarre\, Gesa
 ng\n\nDer Eintritt ist wie immer frei!
DTSTART:20260429T190000
DTEND:20260429T210000
LOCATION:Kulturhaus Alter Schlachthof Soest\, Ulrichertor 4\, 59494 Soest\,
  
END:VEVENT
BEGIN:VTIMEZONE
TZID:Europe/Berlin
BEGIN:DAYLIGHT
DTSTART:20260429T190000
TZNAME:CEST
TZOFFSETTO:+0200
TZOFFSETFROM:+0200
END:DAYLIGHT
END:VTIMEZONE
END:VCALENDAR
