BEGIN:VCALENDAR
PRODID:-//eluceo/ical//2.0/EN
VERSION:2.0
CALSCALE:GREGORIAN
BEGIN:VEVENT
UID:b8f9e0ac0f17686956383df33ef5f5a6
DTSTAMP:20260424T134149Z
SUMMARY:Pflanzenfarben herstellen & einen Färbergarten anlegen
DESCRIPTION:Die bunte Welt der Pflanzenfarben erwartet euch: wir lernen Fä
 rberpflanzen kennen\, legen einen Färbergarten mit Färberpflanzen selber
  an\, erleben ein spannendes sevengardens-Farbexperiment\, stellen Pflanze
 nfarben her und tauchen beim Malen ein in den Farbzauber.
DTSTART:20260502T103000
DTEND:20260502T153000
LOCATION:NATUROASE am Kulturhaus Alter Schlachthof\, Ulrichertor 4\, 59494 
 Soest\, 
END:VEVENT
BEGIN:VTIMEZONE
TZID:Europe/Berlin
BEGIN:DAYLIGHT
DTSTART:20260502T103000
TZNAME:CEST
TZOFFSETTO:+0200
TZOFFSETFROM:+0200
END:DAYLIGHT
END:VTIMEZONE
END:VCALENDAR
