BEGIN:VCALENDAR
PRODID:-//eluceo/ical//2.0/EN
VERSION:2.0
CALSCALE:GREGORIAN
BEGIN:VEVENT
UID:270bdf7f6f93de12150f7ffa966ec175
DTSTAMP:20260425T042435Z
SUMMARY:GEBRR&GRIMM Frei nach dem Märchen „DER FROSCHKÖNIG“ für Kind
 er ab 4 Jahre
DESCRIPTION:Ein Schauspiel mit zwei Clowns\, einem Sofa\, einer Apfelsine u
 nd einem Märchen für Kinder ab 4 Jahre. Gebrr und Grimm sind zwei Figure
 n wie sie unterschiedlicher nicht sein können: Grimm will am liebsten imm
 er nur in Ruhe seinen Tee trinken\, Gebrr will am liebsten immer nur von G
 rimm ein Küsschen oder ein Märchen erzählt bekommen\, natürlich eines 
 mit Küsschen und „sich lieb haben“.... Mit allen Haken und Ösen vers
 uchen die beiden an ihr Ziel zu kommen: Grimm zu seinem Tee und Gebrr zu i
 hrem Küsschen und ihrem Märchen. Und irgendwie befinden sich die beiden 
 plötzlich in dem Märchen vom Froschkönig. Und in dem wird der Frosch ja
  bekanntlich geküsst. Oder? Oder wird er an die Wand geworfen? Wie war da
 s noch gleich? Eine clowneske Reise durch das Grimmsche Märchen beginnt .
 .. Ein Schauspiel um das „sich lieb haben“ und das „sich gegenseitig
  lassen“.
DTSTART:20260602T160000
DTEND:20260602T173000
LOCATION:Kulturhaus Alter Schlachthof Soest\, Ulrichertor 4\, 59494 Soest\,
  
END:VEVENT
BEGIN:VTIMEZONE
TZID:Europe/Berlin
BEGIN:DAYLIGHT
DTSTART:20260602T160000
TZNAME:CEST
TZOFFSETTO:+0200
TZOFFSETFROM:+0200
END:DAYLIGHT
END:VTIMEZONE
END:VCALENDAR
