BEGIN:VCALENDAR
PRODID:-//eluceo/ical//2.0/EN
VERSION:2.0
CALSCALE:GREGORIAN
BEGIN:VEVENT
UID:98680b7e163235047b5f4a88c3d80c3b
DTSTAMP:20260424T180612Z
SUMMARY:Vernissage | "Light Art - Where Silence Remembers Its Light" Diana 
 Weil
DESCRIPTION:Diana Weil zeigt florale Motive im Makrobereich\, die zwischen 
 Realität und Abstraktion schweben. \nAus der Nähe werden Blüten zu inte
 nsiven Farbräumen\, zu stillen\, beinahe meditativen Kompositionen aus Li
 cht und Struktur.\n\nEntstanden in Momenten der Stille\, laden ihre Arbeit
 en dazu ein\, innezuhalten\, \nlangsamer zu werden und die eigene Wahrnehm
 ung zu vertiefen.\n\nDie großformatigen Werke auf Acrylglas und Leinwand 
 entfalten eine leuchtende Präsenz – \nunmittelbar\, sinnlich\, berühre
 nd.\n\nEine Ausstellung über das Sehen.\nUnd über das Erinnern an das Li
 cht.\n\n\n\nDer Eintritt ist frei
DTSTART:20260528T183000
DTEND:20260528T203000
LOCATION:Kulturhaus Alter Schlachthof Soest\, Ulrichertor 4\, 59494 Soest\,
  
END:VEVENT
BEGIN:VTIMEZONE
TZID:Europe/Berlin
BEGIN:DAYLIGHT
DTSTART:20260528T183000
TZNAME:CEST
TZOFFSETTO:+0200
TZOFFSETFROM:+0200
END:DAYLIGHT
END:VTIMEZONE
END:VCALENDAR
