BEGIN:VCALENDAR
PRODID:-//eluceo/ical//2.0/EN
VERSION:2.0
CALSCALE:GREGORIAN
BEGIN:VEVENT
UID:15992dcf1127f58840677790aff95251
DTSTAMP:20260424T160442Z
SUMMARY:Lesung der BördeAutoren
DESCRIPTION:Nach sechs weiteren Anthologien mit unterschiedlichen Themen he
 ißt es im Jahre 2026 „bördeweiter“\, und wieder ist unsere Region Sc
 hauplatz von neuen Geschichten und Gedichten. Die BördeAutoren laden Sie 
 ein\, mit ihren Texten unsere Heimat\, diesen liebenswerten Landstrich zwi
 schen Münster- und Sauerland\, aus neuen Blickwinkeln zu betrachten und e
 rneut lieben zu lernen. Wie beim ersten Band hat der Soester Künstler Ric
 hard A. Cox auch für diese Anthologie ein wunderschönes Cover gefertigt\
 , das dem Buch einen würdigen Rahmen verleiht.
DTSTART:20260506T180000
DTEND:20260506T210000
LOCATION:Atelier Richard A. Cox\, Brüderstr 40\, 59494 Soest\, 
END:VEVENT
BEGIN:VTIMEZONE
TZID:Europe/Berlin
BEGIN:DAYLIGHT
DTSTART:20260506T180000
TZNAME:CEST
TZOFFSETTO:+0200
TZOFFSETFROM:+0200
END:DAYLIGHT
END:VTIMEZONE
END:VCALENDAR
