BEGIN:VCALENDAR
PRODID:-//eluceo/ical//2.0/EN
VERSION:2.0
CALSCALE:GREGORIAN
BEGIN:VEVENT
UID:cdd6d7470af5d2c22a20af820b3836e2
DTSTAMP:20260424T160442Z
SUMMARY:TEST
DESCRIPTION:<p><br></p>
DTSTART:20260519T100000
DTEND:20260519T110000
LOCATION:Circuszentrum Balloni\, Doyenweg 15\, 59494 Soest\, 
END:VEVENT
BEGIN:VTIMEZONE
TZID:Europe/Berlin
BEGIN:DAYLIGHT
DTSTART:20260519T100000
TZNAME:CEST
TZOFFSETTO:+0200
TZOFFSETFROM:+0200
END:DAYLIGHT
END:VTIMEZONE
END:VCALENDAR
