BEGIN:VCALENDAR
PRODID:-//eluceo/ical//2.0/EN
VERSION:2.0
CALSCALE:GREGORIAN
BEGIN:VEVENT
UID:33d9c46fdf9c8a784c255bee2b4c06a3
DTSTAMP:20260424T160443Z
SUMMARY:TEST
DESCRIPTION:<p><br></p>
DTSTART:20260512T100000
DTEND:20260512T110000
LOCATION:Circuszentrum Balloni\, Doyenweg 15\, 59494 Soest\, 
END:VEVENT
BEGIN:VTIMEZONE
TZID:Europe/Berlin
BEGIN:DAYLIGHT
DTSTART:20260512T100000
TZNAME:CEST
TZOFFSETTO:+0200
TZOFFSETFROM:+0200
END:DAYLIGHT
END:VTIMEZONE
END:VCALENDAR
