BEGIN:VCALENDAR
PRODID:-//eluceo/ical//2.0/EN
VERSION:2.0
CALSCALE:GREGORIAN
BEGIN:VEVENT
UID:2bdc0143910fd0c34a4984e50fe0a0fb
DTSTAMP:20260424T120353Z
SUMMARY:TESTELES
DESCRIPTION:<p>testen was dsa zeug hält</p>
DTSTART:20260425T130000
DTEND:20260424T000000
LOCATION:Schlachthofkino\, Ulrichertor 4\, 59494 Soest\, 
END:VEVENT
BEGIN:VTIMEZONE
TZID:Europe/Berlin
BEGIN:DAYLIGHT
DTSTART:20260425T130000
TZNAME:CEST
TZOFFSETTO:+0200
TZOFFSETFROM:+0200
END:DAYLIGHT
END:VTIMEZONE
END:VCALENDAR
