BEGIN:VCALENDAR
PRODID:-//eluceo/ical//2.0/EN
VERSION:2.0
CALSCALE:GREGORIAN
BEGIN:VEVENT
UID:18f645bd1cbbe963e3d67a5962aaf837
DTSTAMP:20260424T173434Z
SUMMARY:TEST 3
DESCRIPTION:<p>test</p>
DTSTART:20260512T100000
DTEND:20260512T150000
LOCATION:Circuszentrum Balloni\, Doyenweg 15\, 59494 Soest\, 
END:VEVENT
BEGIN:VTIMEZONE
TZID:Europe/Berlin
BEGIN:DAYLIGHT
DTSTART:20260512T100000
TZNAME:CEST
TZOFFSETTO:+0200
TZOFFSETFROM:+0200
END:DAYLIGHT
END:VTIMEZONE
END:VCALENDAR
