BEGIN:VCALENDAR
PRODID:-//eluceo/ical//2.0/EN
VERSION:2.0
CALSCALE:GREGORIAN
BEGIN:VEVENT
UID:22498bc0be08c4089cea6bfdf9a4dd0a
DTSTAMP:20260425T025120Z
SUMMARY:TEST 3
DESCRIPTION:<p>test</p>
DTSTART:20260505T100000
DTEND:20260505T150000
LOCATION:Circuszentrum Balloni\, Doyenweg 15\, 59494 Soest\, 
END:VEVENT
BEGIN:VTIMEZONE
TZID:Europe/Berlin
BEGIN:DAYLIGHT
DTSTART:20260505T100000
TZNAME:CEST
TZOFFSETTO:+0200
TZOFFSETFROM:+0200
END:DAYLIGHT
END:VTIMEZONE
END:VCALENDAR
