BEGIN:VCALENDAR
PRODID:-//eluceo/ical//2.0/EN
VERSION:2.0
CALSCALE:GREGORIAN
BEGIN:VEVENT
UID:0ad2d70aa6dc05d13bf3cb1015d38299
DTSTAMP:20260424T160428Z
SUMMARY:TEST 3
DESCRIPTION:<p>test</p>
DTSTART:20260428T100000
DTEND:20260428T150000
LOCATION:Circuszentrum Balloni\, Doyenweg 15\, 59494 Soest\, 
END:VEVENT
BEGIN:VTIMEZONE
TZID:Europe/Berlin
BEGIN:DAYLIGHT
DTSTART:20260428T100000
TZNAME:CEST
TZOFFSETTO:+0200
TZOFFSETFROM:+0200
END:DAYLIGHT
END:VTIMEZONE
END:VCALENDAR
