BEGIN:VCALENDAR
PRODID:-//eluceo/ical//2.0/EN
VERSION:2.0
CALSCALE:GREGORIAN
BEGIN:VEVENT
UID:5210f080c87975ff07700beb0ee647a9
DTSTAMP:20260424T121415Z
SUMMARY:Irgendwas mit Bild
DESCRIPTION:<p><br></p>
DTSTART:20260424T120000
DTEND:20260424T150000
LOCATION:Blauer Saal\, Domplatz\, 59494 Soest\, 
END:VEVENT
BEGIN:VTIMEZONE
TZID:Europe/Berlin
BEGIN:DAYLIGHT
DTSTART:20260424T120000
TZNAME:CEST
TZOFFSETTO:+0200
TZOFFSETFROM:+0200
END:DAYLIGHT
END:VTIMEZONE
END:VCALENDAR
